BEGIN:VCALENDAR
VERSION:2.0
PRODID:-//WILPF US - ECPv6.15.18//NONSGML v1.0//EN
CALSCALE:GREGORIAN
METHOD:PUBLISH
X-WR-CALNAME:WILPF US
X-ORIGINAL-URL:https://wilpfus.org
X-WR-CALDESC:Events for WILPF US
REFRESH-INTERVAL;VALUE=DURATION:PT1H
X-Robots-Tag:noindex
X-PUBLISHED-TTL:PT1H
BEGIN:VTIMEZONE
TZID:America/New_York
BEGIN:DAYLIGHT
TZOFFSETFROM:-0500
TZOFFSETTO:-0400
TZNAME:EDT
DTSTART:20250309T070000
END:DAYLIGHT
BEGIN:STANDARD
TZOFFSETFROM:-0400
TZOFFSETTO:-0500
TZNAME:EST
DTSTART:20251102T060000
END:STANDARD
BEGIN:DAYLIGHT
TZOFFSETFROM:-0500
TZOFFSETTO:-0400
TZNAME:EDT
DTSTART:20260308T070000
END:DAYLIGHT
BEGIN:STANDARD
TZOFFSETFROM:-0400
TZOFFSETTO:-0500
TZNAME:EST
DTSTART:20261101T060000
END:STANDARD
BEGIN:DAYLIGHT
TZOFFSETFROM:-0500
TZOFFSETTO:-0400
TZNAME:EDT
DTSTART:20270314T070000
END:DAYLIGHT
BEGIN:STANDARD
TZOFFSETFROM:-0400
TZOFFSETTO:-0500
TZNAME:EST
DTSTART:20271107T060000
END:STANDARD
END:VTIMEZONE
BEGIN:VEVENT
DTSTART;TZID=America/New_York:20260415T200000
DTEND;TZID=America/New_York:20260415T213000
DTSTAMP:20260417T091611
CREATED:20260323T230636Z
LAST-MODIFIED:20260323T230802Z
UID:15843-1776283200-1776288600@wilpfus.org
SUMMARY:BUILDING A PEACE ECONOMY
DESCRIPTION:How to Defund War & Create a Peace Economy Through Right Valuing Land & Tading Billionaires’ Unearned Income \nWhile billionaires accumulate vast unearned wealth through financial gains and land speculation\, communities struggle for housing\, heath care\, and peace. This webinar explores how shifting our tax system — taking what people take from the commons rather than what they create – can fund the foundations of a truly peaceful society. . Our speaker will connect the dots and offer real solutions for which we can advocate. Questions: Contact mbgardam@gmail.com \nWHAT WE’LL EXPLORE TOGETHER:\n• Why billionaire wealth is largely unearned – and what that means for democracy.\n• The history of privatizing land and resources\, ‘the commons’ and the historic enclosure of the commons.\n• Land value taxation as a tool for affordable housing & shared prosperity\n• Real world examples of how it can work.\n• The link between economic inequality\, militarism and the peace we seek. \nPRESENTER:\nAlanna Harzok\, a WILPF member\, educator\, activist and lecturer at the Schumacher Center for a New Economics. Alanna is the author of The Earth Belongs To Everyone (Radical Middle Book Award). She is Co-Director of the Earth Rights Institute and a UN NGO Representative of the International Union for Land Value Taxation. She is the architect of landmark Pennsylvania land value tax reform legislation. \n8pm-9:30pm ET / 7pm – 8:30pm CT / 5pm-6:30pm PT \nSponsored by the Women\, Money & Democracy Committee and the Earth Democracy Committee of WILPF US \n 
URL:https://wilpfus.org/event/building-a-peace-economy-how-to-defund-war-create-a-peace-economy-through-right-valuing-land-tading-billionaires-unearned-income/
LOCATION:Zoom
CATEGORIES:Climate & Earth Justice,Economic Justice
END:VEVENT
BEGIN:VEVENT
DTSTART;TZID=America/New_York:20260426T170000
DTEND;TZID=America/New_York:20260426T180000
DTSTAMP:20260417T091611
CREATED:20260409T190905Z
LAST-MODIFIED:20260410T132451Z
UID:16031-1777222800-1777226400@wilpfus.org
SUMMARY:Border and Migration Justice (BMJ) Meeting
DESCRIPTION:Monthly Meeting \nYou are invited to a Zoom meeting.\nWhen: Apr 19\, 2026 05:00 PM Eastern Time (US and Canada)\nRegister in advance for this meeting: \nAfter registering\, you will receive a confirmation email containing information about joining the meeting.
URL:https://wilpfus.org/event/border-and-migration-justice-bmj-meeting/
LOCATION:Zoom
END:VEVENT
BEGIN:VEVENT
DTSTART;TZID=America/New_York:20260429T160000
DTEND;TZID=America/New_York:20260429T190000
DTSTAMP:20260417T091611
CREATED:20260410T144210Z
LAST-MODIFIED:20260410T144210Z
UID:16041-1777478400-1777489200@wilpfus.org
SUMMARY:Women\, Peace\, Democracy
DESCRIPTION:A special WILPF US national event featuring powerful women who are educating\, activating\, and lifting others in the fight for women\, peace\, and democracy. \nWe will provide the Zoom registration link once it is created.
URL:https://wilpfus.org/event/women-peace-democracy/
LOCATION:Zoom
END:VEVENT
END:VCALENDAR